BEGIN:VCALENDAR
VERSION:2.0
PRODID:-//wp-events-plugin.com//7.2.3.1//EN
TZID:Asia/Tokyo
X-WR-TIMEZONE:Asia/Tokyo
BEGIN:VEVENT
UID:21709@hula.sandii.jp
DTSTART;TZID=Asia/Tokyo:20250419T210000
DTEND;TZID=Asia/Tokyo:20250419T220000
DTSTAMP:20250331T080033Z
URL:https://hula.sandii.jp/schedule/maeva-manava-2/
SUMMARY:Maeva Manava
DESCRIPTION:
CATEGORIES:イベントタヒチ
END:VEVENT
BEGIN:VTIMEZONE
TZID:Asia/Tokyo
X-LIC-LOCATION:Asia/Tokyo
BEGIN:STANDARD
DTSTART:20240419T210000
TZOFFSETFROM:+0900
TZOFFSETTO:+0900
TZNAME:JST
END:STANDARD
END:VTIMEZONE
END:VCALENDAR