BEGIN:VCALENDAR
VERSION:2.0
PRODID:-//wp-events-plugin.com//7.2.3.1//EN
TZID:Asia/Tokyo
X-WR-TIMEZONE:Asia/Tokyo
BEGIN:VEVENT
UID:8957@hula.sandii.jp
DTSTART;TZID=Asia/Tokyo:20180929T150000
DTEND;TZID=Asia/Tokyo:20180929T163000
DTSTAMP:20180910T084234Z
URL:https://hula.sandii.jp/schedule/20180903kumuws/
SUMMARY:Kumu's Workshop 「Pohai Kealoha」
DESCRIPTION:久しぶりにクムサンディーのワークショップを
 開催いたします！\n\n曲はSandii's Hawai'i 7th 収録　Pohai Keal
 oha\n\nレナ・マシャド作のこの曲は、たくさんの方にカ
 バーされ愛されている名曲です！\n\n&nbsp\;\n\n日時：2018
 年9 月29日（土）　15:00-16:30(1.5h)\n\n課題曲：Pohai Kealoha\n\
 n料金：　会員　4\,100円（高校生以下半額）　非会員　5
 \,100円（高校生以下半額）\n\nキャンセル＆お支払い期
 限：9/25（火）\n\n&nbsp\;\n\n【お振込先】三菱東京ＵＦＪ
 銀行・渋谷明治通支店・普通・口座番号3687774・有限会
 社マナパシフィカ\n\n&nbsp\;\n\nクムズクラスへの移動を
 考えている方は担当インストラクターの許可を得たう
 えで、\n\n必ずクムのワークショップを受講してくださ
 い。\n\n&nbsp\;\n\n※キャンセル待ちが入っている場合、
 期限内にお支払いのない方はキャンセルとさせていた
 だき、お待ちの方に順番をまわさせていただきます。
 その場合、事前に連絡いたしませんのでご了承くださ
 い。\n\n 
CATEGORIES:ワークショップ
LOCATION:渋谷校\, 渋谷区神山町5-15\, 東京都\, 日本
GEO:35.665327;139.693571
X-APPLE-STRUCTURED-LOCATION;VALUE=URI;X-ADDRESS=渋谷区神山町5-15\, 
 東京都\, 日本;X-APPLE-RADIUS=100;X-TITLE=渋谷校:geo:35.665327,139.
 693571
END:VEVENT
BEGIN:VTIMEZONE
TZID:Asia/Tokyo
X-LIC-LOCATION:Asia/Tokyo
BEGIN:STANDARD
DTSTART:20170929T150000
TZOFFSETFROM:+0900
TZOFFSETTO:+0900
TZNAME:JST
END:STANDARD
END:VTIMEZONE
END:VCALENDAR