BEGIN:VCALENDAR
VERSION:2.0
PRODID:-//wp-events-plugin.com//7.2.3.1//EN
TZID:Asia/Tokyo
X-WR-TIMEZONE:Asia/Tokyo
BEGIN:VEVENT
UID:9439@hula.sandii.jp
DTSTART;TZID=Asia/Tokyo:20181104T150000
DTEND;TZID=Asia/Tokyo:20181104T163000
DTSTAMP:20181004T053152Z
URL:https://hula.sandii.jp/schedule/1004-2/
SUMMARY:Kumu Sandii's Workshop 「波」
DESCRIPTION:\n\n\n\n\n\n\n日時：2018年11月4日　15:00-16:30(1.5h)\n\n
 課題曲：波（ＣＤ「Sandii's Love2 Pacific」「HULA DUB」収録
 曲）\n\n言わずと知れた、ボ・ガンボスの故どんと氏が
 この世に残した大傑作。全国各地で波フラと呼ばれ、
 多くのフラダンサーに愛されています。久しぶりのホ
 ームSHSでの波ワークショップをぜひお楽しみください
 ♪♪ サンディーの最新作「HULA DUB」にも新バージョン
 が収録されています。\n\n料金：　会員　4\,100円（高校
 生以下半額）　／　非会員　5\,100円（高校生以下半額
 ）\n\nキャンセル＆お支払い期限：10月26日（金）\n\n【
 お振込先】三菱東京ＵＦＪ銀行・渋谷明治通支店・普
 通・口座番号3687774・有限会社マナパシフィカ\n\n※キャ
 ンセル待ちが入っている場合、期限内にお支払いのな
 い方はキャンセルとさせていただき、お待ちの方に順
 番をまわさせていただきます。その場合、事前に連絡
 いたしませんのでご了承ください。\n\n※こちらのワー
 クショップは、ビジター様でもご参加いただけますが
 、他ハーラウで教えている先生は一度ご相談ください
 。（Tel:03-3460-3161）\n\n \n\n\n\n\n\n
CATEGORIES:ワークショップ
LOCATION:渋谷校\, 渋谷区神山町5-15\, 東京都\, 日本
GEO:35.665327;139.693571
X-APPLE-STRUCTURED-LOCATION;VALUE=URI;X-ADDRESS=渋谷区神山町5-15\, 
 東京都\, 日本;X-APPLE-RADIUS=100;X-TITLE=渋谷校:geo:35.665327,139.
 693571
END:VEVENT
BEGIN:VTIMEZONE
TZID:Asia/Tokyo
X-LIC-LOCATION:Asia/Tokyo
BEGIN:STANDARD
DTSTART:20171104T150000
TZOFFSETFROM:+0900
TZOFFSETTO:+0900
TZNAME:JST
END:STANDARD
END:VTIMEZONE
END:VCALENDAR