BEGIN:VCALENDAR
VERSION:2.0
PRODID:-//wp-events-plugin.com//7.2.3.1//EN
TZID:Asia/Tokyo
X-WR-TIMEZONE:Asia/Tokyo
BEGIN:VEVENT
UID:9438@hula.sandii.jp
DTSTART;TZID=Asia/Tokyo:20181104T130000
DTEND;TZID=Asia/Tokyo:20181104T143000
DTSTAMP:20181004T053009Z
URL:https://hula.sandii.jp/schedule/1004-1/
SUMMARY:Kumu Sandii's Workshop 「Hanalei Moon」
DESCRIPTION:\n\n\n\n\n\n\n日時：2018年11月4日　13:00-14:30(1.5h)\n\n
 課題曲：Hanalei Moon\n\n'74年に書かれたピアニスト、ボブ
 ・ネルソンの代表的な作品。'77年にロイヤル・ガーナ
 ーの歌でヒットした曲。静かな美しい夜の海に浮かぶ
 輝く月... ハナレイ湾の波の音... 　まもなく公開される
 映画「ハナレイ・ベイ」と併せてお楽しみください♪\n
 \n料金：　会員　4\,100円（高校生以下半額）　／　非会
 員　5\,100円（高校生以下半額）\n\nキャンセル＆お支払
 い期限：10月26日（金）\n\n【お振込先】三菱東京ＵＦＪ
 銀行・渋谷明治通支店・普通・口座番号3687774・有限会
 社マナパシフィカ\n\n&nbsp\;\n\n※キャンセル待ちが入っ
 ている場合、期限内にお支払いのない方はキャンセル
 とさせていただき、お待ちの方に順番をまわさせてい
 ただきます。その場合、事前に連絡いたしませんので
 ご了承ください。\n\n※こちらのワークショップは、ビ
 ジター様でもご参加いただけますが、他ハーラウで教
 えている先生は一度ご相談ください。（Tel:03-3460-3161）\
 n\n \n\n\n\n\n\n
CATEGORIES:ワークショップ
LOCATION:渋谷校\, 渋谷区神山町5-15\, 東京都\, 日本
GEO:35.665327;139.693571
X-APPLE-STRUCTURED-LOCATION;VALUE=URI;X-ADDRESS=渋谷区神山町5-15\, 
 東京都\, 日本;X-APPLE-RADIUS=100;X-TITLE=渋谷校:geo:35.665327,139.
 693571
END:VEVENT
BEGIN:VTIMEZONE
TZID:Asia/Tokyo
X-LIC-LOCATION:Asia/Tokyo
BEGIN:STANDARD
DTSTART:20171104T130000
TZOFFSETFROM:+0900
TZOFFSETTO:+0900
TZNAME:JST
END:STANDARD
END:VTIMEZONE
END:VCALENDAR