BEGIN:VCALENDAR
VERSION:2.0
PRODID:-//wp-events-plugin.com//7.2.3.1//EN
TZID:Asia/Tokyo
X-WR-TIMEZONE:Asia/Tokyo
BEGIN:VEVENT
UID:11693@hula.sandii.jp
DTSTART;TZID=Asia/Tokyo:20191205T110000
DTEND;TZID=Asia/Tokyo:20191205T120000
DTSTAMP:20191104T052506Z
URL:https://hula.sandii.jp/schedule/%e8%a6%aa%e5%ad%90%e3%83%95%e3%83%a9-8
 2/
SUMMARY:親子フラ
DESCRIPTION:レギュラークラスになかなか通えない小さなお
 子様のいるママや、プレママのためのクラス。\n\nお子
 様たちを遊ばせながら、または赤ちゃんを抱っこしな
 がら親子でゆっくりとALOHAスピリットを育てていくクラ
 スです。\n\nお子様の年齢制限は特に設けていませんが
 、0～3歳くらいまでのお子様連れの方が多いです。赤ち
 ゃんはゴロンと寝かせて、あるいは抱っこしながら踊
 ったり、室内で自由に歩き回ったりするお子様がいる
 中でママたちが自分のペースで踊っています。\n\nレッ
 スン中の授乳やおむつ替えも可能です。育児の悩みを
 話し合ったりして、ママたち同志のコミュニケーショ
 ンも活発です。\n\n会員じゃないビジターさんも大歓迎
 です！！
CATEGORIES:親子フラ
LOCATION:渋谷校\, 渋谷区神山町5-15\, 東京都\, 日本
GEO:35.665327;139.693571
X-APPLE-STRUCTURED-LOCATION;VALUE=URI;X-ADDRESS=渋谷区神山町5-15\, 
 東京都\, 日本;X-APPLE-RADIUS=100;X-TITLE=渋谷校:geo:35.665327,139.
 693571
END:VEVENT
BEGIN:VTIMEZONE
TZID:Asia/Tokyo
X-LIC-LOCATION:Asia/Tokyo
BEGIN:STANDARD
DTSTART:20181205T110000
TZOFFSETFROM:+0900
TZOFFSETTO:+0900
TZNAME:JST
END:STANDARD
END:VTIMEZONE
END:VCALENDAR