BEGIN:VCALENDAR
VERSION:2.0
PRODID:-//wp-events-plugin.com//7.2.3.1//EN
TZID:Asia/Tokyo
X-WR-TIMEZONE:Asia/Tokyo
BEGIN:VEVENT
UID:1570@hula.sandii.jp
DTSTART;TZID=Asia/Tokyo:20150808T173000
DTEND;TZID=Asia/Tokyo:20150808T190000
DTSTAMP:20150725T040253Z
URL:https://hula.sandii.jp/schedule/%e3%80%90%e8%bf%bd%e5%8a%a0%e3%80%91ku
 mu-sandiis-special-workshop%e3%80%8c%e5%b3%b6%e5%94%84%e3%80%8d%e3%80%80/
SUMMARY:【追加】Kumu Sandii's Special Workshop「島唄」　予約締
 め切りました
DESCRIPTION:クムサンディー　スペシャルワークショップ開
 催\n※キャンセル待ちの方が多かったため、島唄ワーク
 ショップを追加いたしました！！\n\n予約開始日：2015年
 7月24日（金）12：00～\n\nご予約方法：ＨＰの「月間スケ
 ジュール」のページからご予約下さい。\n\nhttp://hula.sand
 ii.jp/lesson/schedule/\n\nクムサンディーのNewアルバム　2枚
 同時発売を記念してCD付きのワークショップを開催決定
 いたしました！！\n\n予約開始日：2015年7月17日（金）12
 ：00～　ご予約はHPからお願いいたします。\n\n&nbsp\;\n①
 8月8日（土）13:00-14:30　Sandii’s Hawai’i 8thより　「島唄
 」\nみなさんご存じ、The Boomの名曲です。\n\nもともと親
 交の深いクムサンディーとBoomの宮沢さん。\n\n2010年に
 オーチャードホールで公演をしたときには宮沢さんと
 クムのデュエットという\n\nなんとも貴重なステージが
 ありました。\n\nあれから４年、満を持してのアルバム
 収録となりました。\n\n先日のOcean PeoplesではPunahele先生
 がソロで踊りました。\n\nフラ好き、ブーム好き、沖縄
 好き、みんな集まりましょう♪\n\n料金：5\,600円（会員
 ）／6\,600円（非会員）\n\n場所：サンディーズフラスタ
 ジオ渋谷校\n\n定員：40名\n\n※島唄が収録されている「S
 andii’s Hawaii 8th Smile」を1枚お渡しいたします。\n\n\n\n&nb
 sp\;\n\n\n\nお支払い&amp\;キャンセル期限：2015年7月31日（
 金）17：00まで\n\n※期日までにお支払いがなく、キャン
 セル待ちをされている方がいる場合は、自動的に次の
 方におまわしさせていただきます。ご了承ください。\n
 \nサンディーズフラスタジオ事務局\n03-3460-3161
CATEGORIES:ワークショップ
LOCATION:渋谷校\, 渋谷区神山町5-15\, 東京都\, 日本
GEO:35.665327;139.693571
X-APPLE-STRUCTURED-LOCATION;VALUE=URI;X-ADDRESS=渋谷区神山町5-15\, 
 東京都\, 日本;X-APPLE-RADIUS=100;X-TITLE=渋谷校:geo:35.665327,139.
 693571
END:VEVENT
BEGIN:VTIMEZONE
TZID:Asia/Tokyo
X-LIC-LOCATION:Asia/Tokyo
BEGIN:STANDARD
DTSTART:20140808T173000
TZOFFSETFROM:+0900
TZOFFSETTO:+0900
TZNAME:JST
END:STANDARD
END:VTIMEZONE
END:VCALENDAR